BEGIN:VCALENDAR
VERSION:2.0
PRODID:-//Bach in Dornheim - ECPv6.15.20//NONSGML v1.0//EN
CALSCALE:GREGORIAN
METHOD:PUBLISH
X-ORIGINAL-URL:https://www.bach-in-dornheim.de
X-WR-CALDESC:Veranstaltungen für Bach in Dornheim
REFRESH-INTERVAL;VALUE=DURATION:PT1H
X-Robots-Tag:noindex
X-PUBLISHED-TTL:PT1H
BEGIN:VTIMEZONE
TZID:Europe/Berlin
BEGIN:DAYLIGHT
TZOFFSETFROM:+0100
TZOFFSETTO:+0200
TZNAME:CEST
DTSTART:20240331T010000
END:DAYLIGHT
BEGIN:STANDARD
TZOFFSETFROM:+0200
TZOFFSETTO:+0100
TZNAME:CET
DTSTART:20241027T010000
END:STANDARD
BEGIN:DAYLIGHT
TZOFFSETFROM:+0100
TZOFFSETTO:+0200
TZNAME:CEST
DTSTART:20250330T010000
END:DAYLIGHT
BEGIN:STANDARD
TZOFFSETFROM:+0200
TZOFFSETTO:+0100
TZNAME:CET
DTSTART:20251026T010000
END:STANDARD
BEGIN:DAYLIGHT
TZOFFSETFROM:+0100
TZOFFSETTO:+0200
TZNAME:CEST
DTSTART:20260329T010000
END:DAYLIGHT
BEGIN:STANDARD
TZOFFSETFROM:+0200
TZOFFSETTO:+0100
TZNAME:CET
DTSTART:20261025T010000
END:STANDARD
END:VTIMEZONE
BEGIN:VEVENT
DTSTART;TZID=Europe/Berlin:20250615T163000
DTEND;TZID=Europe/Berlin:20250615T180000
DTSTAMP:20260422T125927
CREATED:20250413T080936Z
LAST-MODIFIED:20250413T080936Z
UID:1397-1750005000-1750010400@www.bach-in-dornheim.de
SUMMARY:MOZARTIANA - Werke von Wolfgang Amade´Mozart
DESCRIPTION:Ein Konzert mit „Musik der Engelischen Scharen“ gespielt vom „DUO VIMARIS“\nMirjam Meinhold\, Sopran u. Blockflöte (Dt.Nationaltheater Weimar)\nund\nWieland Meinhold\, Orgel u. Moderation (Universitätsorganist Erfurt / Weimar) \nVor dem Konzert um 15.45 Uhr auf der Empore „Klangmajestät-Besuch der Königin“\, Dr. W.Meinhold erläutert Aufbau und Klangfarben der Orgel anhand von freien Improvisationen. \n„Am Ende bitten wir Sie um eine von Herzen kommende großzügige Spende\,statt einer regulären Eintrittskarte.“
URL:https://www.bach-in-dornheim.de/veranstaltung/mozartiana-werke-von-wolfgang-amademozart/
LOCATION:Traukirche Dornheim
END:VEVENT
END:VCALENDAR