BEGIN:VCALENDAR
VERSION:2.0
PRODID:-//Bach in Dornheim - ECPv6.15.20//NONSGML v1.0//EN
CALSCALE:GREGORIAN
METHOD:PUBLISH
X-WR-CALNAME:Bach in Dornheim
X-ORIGINAL-URL:https://www.bach-in-dornheim.de
X-WR-CALDESC:Veranstaltungen für Bach in Dornheim
REFRESH-INTERVAL;VALUE=DURATION:PT1H
X-Robots-Tag:noindex
X-PUBLISHED-TTL:PT1H
BEGIN:VTIMEZONE
TZID:Europe/Berlin
BEGIN:DAYLIGHT
TZOFFSETFROM:+0100
TZOFFSETTO:+0200
TZNAME:CEST
DTSTART:20240331T010000
END:DAYLIGHT
BEGIN:STANDARD
TZOFFSETFROM:+0200
TZOFFSETTO:+0100
TZNAME:CET
DTSTART:20241027T010000
END:STANDARD
BEGIN:DAYLIGHT
TZOFFSETFROM:+0100
TZOFFSETTO:+0200
TZNAME:CEST
DTSTART:20250330T010000
END:DAYLIGHT
BEGIN:STANDARD
TZOFFSETFROM:+0200
TZOFFSETTO:+0100
TZNAME:CET
DTSTART:20251026T010000
END:STANDARD
BEGIN:DAYLIGHT
TZOFFSETFROM:+0100
TZOFFSETTO:+0200
TZNAME:CEST
DTSTART:20260329T010000
END:DAYLIGHT
BEGIN:STANDARD
TZOFFSETFROM:+0200
TZOFFSETTO:+0100
TZNAME:CET
DTSTART:20261025T010000
END:STANDARD
END:VTIMEZONE
BEGIN:VEVENT
DTSTART;TZID=Europe/Berlin:20250426T110000
DTEND;TZID=Europe/Berlin:20250426T130000
DTSTAMP:20260421T150512
CREATED:20250413T075812Z
LAST-MODIFIED:20250413T075812Z
UID:1395-1745665200-1745672400@www.bach-in-dornheim.de
SUMMARY:Arnstädter Bachfestival & Thüringer Bachwochen
DESCRIPTION:„Bach und Weinberg“ \nlautet das Motto von Mario Brunello am Cello. \nBeginn: 11 Uhr
URL:https://www.bach-in-dornheim.de/veranstaltung/arnstaedter-bachfestival-thueringer-bachwochen/
LOCATION:Traukirche Dornheim
CATEGORIES:Konzerte
END:VEVENT
END:VCALENDAR