BEGIN:VCALENDAR
VERSION:2.0
PRODID:-//Bach in Dornheim - ECPv6.15.20//NONSGML v1.0//EN
CALSCALE:GREGORIAN
METHOD:PUBLISH
X-WR-CALNAME:Bach in Dornheim
X-ORIGINAL-URL:https://www.bach-in-dornheim.de
X-WR-CALDESC:Veranstaltungen für Bach in Dornheim
REFRESH-INTERVAL;VALUE=DURATION:PT1H
X-Robots-Tag:noindex
X-PUBLISHED-TTL:PT1H
BEGIN:VTIMEZONE
TZID:Europe/Berlin
BEGIN:DAYLIGHT
TZOFFSETFROM:+0100
TZOFFSETTO:+0200
TZNAME:CEST
DTSTART:20220327T010000
END:DAYLIGHT
BEGIN:STANDARD
TZOFFSETFROM:+0200
TZOFFSETTO:+0100
TZNAME:CET
DTSTART:20221030T010000
END:STANDARD
BEGIN:DAYLIGHT
TZOFFSETFROM:+0100
TZOFFSETTO:+0200
TZNAME:CEST
DTSTART:20230326T010000
END:DAYLIGHT
BEGIN:STANDARD
TZOFFSETFROM:+0200
TZOFFSETTO:+0100
TZNAME:CET
DTSTART:20231029T010000
END:STANDARD
BEGIN:DAYLIGHT
TZOFFSETFROM:+0100
TZOFFSETTO:+0200
TZNAME:CEST
DTSTART:20240331T010000
END:DAYLIGHT
BEGIN:STANDARD
TZOFFSETFROM:+0200
TZOFFSETTO:+0100
TZNAME:CET
DTSTART:20241027T010000
END:STANDARD
END:VTIMEZONE
BEGIN:VEVENT
DTSTART;TZID=Europe/Berlin:20231203T140000
DTEND;TZID=Europe/Berlin:20231203T180000
DTSTAMP:20260424T234948
CREATED:20230621T093403Z
LAST-MODIFIED:20230621T093403Z
UID:1344-1701612000-1701626400@www.bach-in-dornheim.de
SUMMARY:Weihnachtsmarkt
DESCRIPTION:Traditioneller\, kleiner gemütlicher Weihnachtsmarkt\nmit dem Chor „ad libitum“
URL:https://www.bach-in-dornheim.de/veranstaltung/weihnachtsmarkt/
LOCATION:Kirchhof vor der Traukirche\, Hauptstraße 65\, Dornheim\, Thüringen\, Deutschland
END:VEVENT
END:VCALENDAR