BEGIN:VCALENDAR
VERSION:2.0
PRODID:-//Bach in Dornheim - ECPv6.15.20//NONSGML v1.0//EN
CALSCALE:GREGORIAN
METHOD:PUBLISH
X-ORIGINAL-URL:https://www.bach-in-dornheim.de
X-WR-CALDESC:Veranstaltungen für Bach in Dornheim
REFRESH-INTERVAL;VALUE=DURATION:PT1H
X-Robots-Tag:noindex
X-PUBLISHED-TTL:PT1H
BEGIN:VTIMEZONE
TZID:Europe/Berlin
BEGIN:DAYLIGHT
TZOFFSETFROM:+0100
TZOFFSETTO:+0200
TZNAME:CEST
DTSTART:20220327T010000
END:DAYLIGHT
BEGIN:STANDARD
TZOFFSETFROM:+0200
TZOFFSETTO:+0100
TZNAME:CET
DTSTART:20221030T010000
END:STANDARD
BEGIN:DAYLIGHT
TZOFFSETFROM:+0100
TZOFFSETTO:+0200
TZNAME:CEST
DTSTART:20230326T010000
END:DAYLIGHT
BEGIN:STANDARD
TZOFFSETFROM:+0200
TZOFFSETTO:+0100
TZNAME:CET
DTSTART:20231029T010000
END:STANDARD
BEGIN:DAYLIGHT
TZOFFSETFROM:+0100
TZOFFSETTO:+0200
TZNAME:CEST
DTSTART:20240331T010000
END:DAYLIGHT
BEGIN:STANDARD
TZOFFSETFROM:+0200
TZOFFSETTO:+0100
TZNAME:CET
DTSTART:20241027T010000
END:STANDARD
END:VTIMEZONE
BEGIN:VEVENT
DTSTART;TZID=Europe/Berlin:20231014T180000
DTEND;TZID=Europe/Berlin:20231014T200000
DTSTAMP:20260424T210827
CREATED:20230315T101303Z
LAST-MODIFIED:20230315T103138Z
UID:1329-1697306400-1697313600@www.bach-in-dornheim.de
SUMMARY:Musikalische Lesung
DESCRIPTION:Matthias Gehler und Michael „Strecke“ Streckenbach lesen und musizieren
URL:https://www.bach-in-dornheim.de/veranstaltung/musikalische-lesung/
LOCATION:Traukirche Dornheim
CATEGORIES:Konzerte
END:VEVENT
BEGIN:VEVENT
DTSTART;TZID=Europe/Berlin:20231022T170000
DTEND;TZID=Europe/Berlin:20231022T190000
DTSTAMP:20260424T210827
CREATED:20230315T101446Z
LAST-MODIFIED:20230621T092715Z
UID:1331-1697994000-1698001200@www.bach-in-dornheim.de
SUMMARY:Konzert der "Musicfriends"
DESCRIPTION:Programm: „Lieder die das Leben schreibt“
URL:https://www.bach-in-dornheim.de/veranstaltung/konzert-der-musicfriends/
LOCATION:Traukirche Dornheim
CATEGORIES:Konzerte
END:VEVENT
END:VCALENDAR