BEGIN:VCALENDAR
VERSION:2.0
PRODID:-//Bach in Dornheim - ECPv6.15.20//NONSGML v1.0//EN
CALSCALE:GREGORIAN
METHOD:PUBLISH
X-ORIGINAL-URL:https://www.bach-in-dornheim.de
X-WR-CALDESC:Veranstaltungen für Bach in Dornheim
REFRESH-INTERVAL;VALUE=DURATION:PT1H
X-Robots-Tag:noindex
X-PUBLISHED-TTL:PT1H
BEGIN:VTIMEZONE
TZID:Europe/Berlin
BEGIN:DAYLIGHT
TZOFFSETFROM:+0100
TZOFFSETTO:+0200
TZNAME:CEST
DTSTART:20150329T010000
END:DAYLIGHT
BEGIN:STANDARD
TZOFFSETFROM:+0200
TZOFFSETTO:+0100
TZNAME:CET
DTSTART:20151025T010000
END:STANDARD
BEGIN:DAYLIGHT
TZOFFSETFROM:+0100
TZOFFSETTO:+0200
TZNAME:CEST
DTSTART:20160327T010000
END:DAYLIGHT
BEGIN:STANDARD
TZOFFSETFROM:+0200
TZOFFSETTO:+0100
TZNAME:CET
DTSTART:20161030T010000
END:STANDARD
BEGIN:DAYLIGHT
TZOFFSETFROM:+0100
TZOFFSETTO:+0200
TZNAME:CEST
DTSTART:20170326T010000
END:DAYLIGHT
BEGIN:STANDARD
TZOFFSETFROM:+0200
TZOFFSETTO:+0100
TZNAME:CET
DTSTART:20171029T010000
END:STANDARD
END:VTIMEZONE
BEGIN:VEVENT
DTSTART;TZID=Europe/Berlin:20160206T100000
DTEND;TZID=Europe/Berlin:20160206T100000
DTSTAMP:20260420T130948
CREATED:20151226T095518Z
LAST-MODIFIED:20160209T103727Z
UID:282-1454752800-1454752800@www.bach-in-dornheim.de
SUMMARY:Gottesdienst mit Taufe
DESCRIPTION:Samstag\, 6. Februar 2016\, 10 Uhr
URL:https://www.bach-in-dornheim.de/veranstaltung/gottesdienst-mit-taufe/
LOCATION:Traukirche Dornheim
CATEGORIES:Gottesdienste
END:VEVENT
BEGIN:VEVENT
DTSTART;TZID=Europe/Berlin:20160224T080000
DTEND;TZID=Europe/Berlin:20160321T170000
DTSTAMP:20260420T130948
CREATED:20160224T085652Z
LAST-MODIFIED:20160224T085652Z
UID:312-1456300800-1458579600@www.bach-in-dornheim.de
SUMMARY:Sonntag\, 20. März\, 9:30 Uhr  Gottesdienst
DESCRIPTION:
URL:https://www.bach-in-dornheim.de/veranstaltung/sonntag-20-maerz-930-uhr-gottesdienst/
CATEGORIES:Gottesdienste
END:VEVENT
END:VCALENDAR