BEGIN:VCALENDAR
VERSION:2.0
PRODID:-//Bach in Dornheim - ECPv6.15.20//NONSGML v1.0//EN
CALSCALE:GREGORIAN
METHOD:PUBLISH
X-ORIGINAL-URL:https://www.bach-in-dornheim.de
X-WR-CALDESC:Veranstaltungen für Bach in Dornheim
REFRESH-INTERVAL;VALUE=DURATION:PT1H
X-Robots-Tag:noindex
X-PUBLISHED-TTL:PT1H
BEGIN:VTIMEZONE
TZID:Europe/Berlin
BEGIN:DAYLIGHT
TZOFFSETFROM:+0100
TZOFFSETTO:+0200
TZNAME:CEST
DTSTART:20140330T010000
END:DAYLIGHT
BEGIN:STANDARD
TZOFFSETFROM:+0200
TZOFFSETTO:+0100
TZNAME:CET
DTSTART:20141026T010000
END:STANDARD
BEGIN:DAYLIGHT
TZOFFSETFROM:+0100
TZOFFSETTO:+0200
TZNAME:CEST
DTSTART:20150329T010000
END:DAYLIGHT
BEGIN:STANDARD
TZOFFSETFROM:+0200
TZOFFSETTO:+0100
TZNAME:CET
DTSTART:20151025T010000
END:STANDARD
BEGIN:DAYLIGHT
TZOFFSETFROM:+0100
TZOFFSETTO:+0200
TZNAME:CEST
DTSTART:20160327T010000
END:DAYLIGHT
BEGIN:STANDARD
TZOFFSETFROM:+0200
TZOFFSETTO:+0100
TZNAME:CET
DTSTART:20161030T010000
END:STANDARD
END:VTIMEZONE
BEGIN:VEVENT
DTSTART;TZID=Europe/Berlin:20151014T080000
DTEND;TZID=Europe/Berlin:20151014T170000
DTSTAMP:20260424T143231
CREATED:20151014T161558Z
LAST-MODIFIED:20151014T162401Z
UID:275-1444809600-1444842000@www.bach-in-dornheim.de
SUMMARY:Sonntag\, 4. Oktober  Gottesdienst zum Erntedankfest mit Abendmahl
DESCRIPTION:
URL:https://www.bach-in-dornheim.de/veranstaltung/sonntag-4-oktober-gottesdienst-zum-erntedankfest-mit-abendmal/
CATEGORIES:Gottesdienste
END:VEVENT
BEGIN:VEVENT
DTSTART;TZID=Europe/Berlin:20151017T193000
DTEND;TZID=Europe/Berlin:20151017T193000
DTSTAMP:20260424T143231
CREATED:20150104T105429Z
LAST-MODIFIED:20150526T065654Z
UID:211-1445110200-1445110200@www.bach-in-dornheim.de
SUMMARY:Konzert am Trauungstag
DESCRIPTION:Samstag\, 17.10.\, 19:30 Uhr \nJoachim Schäfer – Trompete und Matthias Eisenberg – Orgel
URL:https://www.bach-in-dornheim.de/veranstaltung/samstag-17-10-1930-uhr-konzert-am-trauungstag-joachim-schaefer-trompete-und-matthias-eisenberg-orgel/
CATEGORIES:Konzerte
END:VEVENT
BEGIN:VEVENT
DTSTART;TZID=Europe/Berlin:20151019T170000
DTEND;TZID=Europe/Berlin:20151019T170000
DTSTAMP:20260424T143231
CREATED:20150716T134108Z
LAST-MODIFIED:20150818T081936Z
UID:268-1445274000-1445274000@www.bach-in-dornheim.de
SUMMARY:Sonderkonzert eines Posaunenchores aus Hamburg
DESCRIPTION:
URL:https://www.bach-in-dornheim.de/veranstaltung/19-oktober-1700-uhr-sonderkonzert-eines-posaunenchores-aus-hamburg/
CATEGORIES:Konzerte
END:VEVENT
BEGIN:VEVENT
DTSTART;TZID=Europe/Berlin:20151020T080000
DTEND;TZID=Europe/Berlin:20151102T170000
DTSTAMP:20260424T143231
CREATED:20151014T161806Z
LAST-MODIFIED:20151014T161806Z
UID:276-1445328000-1446483600@www.bach-in-dornheim.de
SUMMARY:Sonntag 1. November\, 9:30 Uhr  Gottesdienst
DESCRIPTION:
URL:https://www.bach-in-dornheim.de/veranstaltung/sonntag-1-november-930-uhr-gottesdienst/
CATEGORIES:Gottesdienste
END:VEVENT
END:VCALENDAR